Workbook

Sheet Rekapitulasi
A1: Rekapitulasi Kebutuhan Teknik Lingkungan
A4: DAFTAR KEBUTUHAN ALAT BAHAN
A5: No | B5: Keterangan | C5: Jumlah | D5: Satuan | E5: Harga Satuan | F5: Total
A6: 1 | B6: Praktikum Fisika Dasar I | C6: 1 | D6: Paket | E6: ='Persediaan Praktikum Prodi Tekn'!G27 -> 0 | F6: =C6*E6 -> 0
A7: 2 | B7: Praktikum Kimia Dasar I | C7: 1 | D7: Paket | E7: ='Persediaan Praktikum Prodi Tekn'!G64 -> 0 | F7: =C7*E7 -> 0
A8: 3 | B8: Praktikum Mikrobiologi | C8: 1 | D8: Paket | E8: ='Persediaan Praktikum Prodi Tekn'!G126 -> 0 | F8: =C8*E8 -> 0
A9: 4 | B9: Praktikum Pencemaran Udara dan Perubahan Iklim | C9: 1 | D9: Paket | E9: ='Persediaan Praktikum Prodi Tekn'!G192 -> 0 | F9: =C9*E9 -> 0
A10: 5 | B10: Praktikum TPAL | C10: 1 | D10: Paket | E10: ='Persediaan Praktikum Prodi Tekn'!G371 -> 0 | F10: =C10*E10 -> 0
A12: Sub Total | F12: =SUM(F6:F8) -> 0
A13: PPN
A14: Total | F14: =SUM(F12:F13) -> 0

Sheet Persediaan Praktikum Prodi Tekn
B1: Rekapitulasi Kebutuhan Teknik Lingkungan
B3: Program Studi | C3: : Teknik Lingkungan
B4: Semester/TA | C4: : I_Ganjil 2026/2027
B5: Matakuliah | C5: : Praktikum Fisika Dasar I
A7: DAFTAR KEBUTUHAN ALAT BAHAN
A8: No | B8: Alat dan Bahan | C8: Spesifikasi | D8: Jumlah | E8: Satuan | F8: Harga Satuan | G8: Total
A9: 1 | B9: Neraca Gram Digital | D9: 2 | E9: buah | G9: =D9*F9 -> 0
A10: 2 | B10: Termometer Celcius | C10: termometer raksa | D10: 2 | E10: buah | G10: =D10*F10 -> 0
A11: 3 | B11: Bunsen | C11: Lampu Spirtus 150 ml | D11: 2 | E11: buah | G11: =D11*F11 -> 0
A12: 4 | B12: Kalorimeter | C12: Terdiri dari 2 buah tabung Tabung dalam Kapasitas 200ml Tabung luar Kapasitas 300ml Sumbat Karet belubang' Pengaduk Penutup | D12: 2 | E12: buah | G12: =D12*F12 -> 0
A13: 5 | B13: Bejana Pemanas | D13: 2 | E13: buah | G13: =D13*F13 -> 0
A14: 6 | B14: Jangka Sorong | C14: Vernier Caliper 6 inchi / 150 mm Seri 530-104 Ketelitian 0,05 Original Deli | D14: 3 | E14: buah | G14: =D14*F14 -> 0
A15: 7 | B15: Mikrometer Sekrup | D15: 3 | E15: buah | G15: =D15*F15 -> 0
A16: 8 | B16: Mistar Besi | C16: ukuran: 50cm | D16: 3 | E16: buah | G16: =D16*F16 -> 0
A17: 9 | B17: Gelas Breaker | C17: Kapasitas 50 ml Bahan borocilicat Tahan panas | D17: 2 | E17: buah | G17: =D17*F17 -> 0
A18: 10 | B18: Gelas Ukur | C18: -Kapasitas 100 ml -Bahan borocilicat -Tahan panas | D18: 2 | E18: buah | G18: =D18*F18 -> 0
A19: 11 | B19: Katrol Horizontal | C19: Bahan: Plastik, logam Warna: Hitam Ukuran: 88 x 155 x31,5 CM | D19: 2 | E19: buah | G19: =D19*F19 -> 0
A20: 12 | B20: Balok Alumunium | C20: Bahan : aluminium Ukuran : 18 x 18 x 57 mm | D20: 2 | E20: buah | G20: =D20*F20 -> 0
A21: 13 | B21: Balok Kayu | C21: Tinggi hingga ke pengait: 7.5 cm Tinggi balok: 4 cm Lebar: 3 cm Panjang: 3 cm Memiliki pengait beban" | D21: 2 | E21: buah | G21: =D21*F21 -> 0
A22: 14 | B22: Kubus Materi | D22: 2 | E22: buah | G22: =D22*F22 -> 0
A23: 15 | B23: Stopwatch Digital | C23: TaffSPORT Stopwatch Profesional LCD dengan Strap - ZSD-808 | D23: 4 | E23: buah | G23: =D23*F23 -> 0
A24: 16 | B24: Papan Gesekan | C24: panjang 8 cm x lebar 4.5 cm x tebal sekitar 1.5 cm | D24: 1 | E24: buah | G24: =D24*F24 -> 0
A25: 17 | B25: Pelengkap bola Viskositas | D25: 1 | E25: buah | G25: =D25*F25 -> 0
A26: 18 | B26: Tabung Viskositas | D26: 2 | E26: buah | G26: =D26*F26 -> 0
B27: Sub Total Praktikum Fisika Dasar I | G27: =SUM(G9:G26) -> 0
B31: Program Studi | C31: : Teknik Lingkungan
B32: Semester/TA | C32: : I_Ganjil 2026/2027
B33: Matakuliah | C33: : Praktikum Kimia Dasar I
A35: DAFTAR KEBUTUHAN BAHAN
A36: No | B36: Bahan | C36: Spesifikasi | D36: Jumlah | E36: Satuan | F36: Harga Satuan | G36: Total
A37: 1 | B37: Akuades | C37: pH: 7 TDS: 0 ppm E.Coli : 0 | D37: 50 | E37: Liter | G37: =D37*F37 -> 0
A38: 2 | B38: Alkohol teknis 96% | C38: alkohol 96% | D38: 1 | E38: botol | G38: =D38*F38 -> 0
A39: 3 | B39: Indikator Amilum | C39: indikator amilum 1% | D39: 10 | E39: gram | G39: =D39*F39 -> 0
A40: 4 | B40: Amonia | C40: mark | D40: 50 | E40: mL | G40: =D40*F40 -> 0
A41: 5 | B41: Amonium Oksalat ((NH4)2C2O4) | C41: (NH4)2C2O4 merck | D41: 10 | E41: gram | G41: =D41*F41 -> 0
A42: 6 | B42: Asam asetat (CH3COOH) | C42: CH3COOH merck | D42: 50 | E42: mL | G42: =D42*F42 -> 0
A43: 8 | B43: Asam Klorida (HCl) | C43: asam kuat, mengatur pH | D43: 200 | E43: mL | G43: =D43*F43 -> 0
A44: 9 | B44: Asam oksalat dihidrat | C44: p.a | D44: 5 | E44: gram | G44: =D44*F44 -> 0
A45: 10 | B45: Asam Sulfat (H2SO4) | C45: asam kuat, p.a | D45: 250 | E45: mL | G45: =D45*F45 -> 0
A46: 11 | B46: Co (II) Nitrat (Co(NO3)2) | C46: p.a | D46: 10 | E46: gram | G46: =D46*F46 -> 0
A47: 12 | B47: Indikator fenol red | C47: indikator pH (kuning-merah) | D47: 50 | E47: mL | G47: =D47*F47 -> 0
A48: 13 | B48: Indikator Methyl red | C48: indikator pH (merah-kuning) | D48: 100 | E48: mL | G48: =D48*F48 -> 0
... A63: 28 | B63: Perak Nitrat (AgNO3) | C63: uji ion korida | D63: 5 | E63: gram | G63: =D63*F63 -> 0
B64: Sub Total Praktikum Kimia Dasar I | G64: =SUM(G42:G63) -> 0
B68: Program Studi | D68: : Teknik Lingkungan
B69: Semester/TA | D69: : III_Ganjil 2026/2027
B70: Matakuliah | D70: : Praktikum Mikrobiologi
A72: DAFTAR KEBUTUHAN BAHAN
A74: No | B74: Praktikum Mikrobiologi | C74: spesifikasi | D74: Jumlah | E74: Satuan | F74: Harga Satuan | G74: Total
A75: 1 | B75: Alkohol 70% | C75: Alkohol 70% | D75: 10 | E75: Liter | G75: =D75*F75 -> 0
A76: 2 | B76: Aluminium foil | C76: 30 cm x 7.62 m | D76: 3 | E76: ROLL | G76: =D76*F76 -> 0
A77: 3 | B77: Aquadest | C77: pH: 7 TDS: 0 ppm E.Coli : 0 | D77: 10 | E77: /5 L | G77: =D77*F77 -> 0
A78: 4 | B78: Benang | C78: Hitam | D78: 2 | E78: roll | G78: =D78*F78 -> 0
A79: 5 | B79: Isolat Escherichia coli | C79: Isolat Kultur Murni Escherichia coli ATCC 25922 | D79: 1 | E79: vial | G79: =D79*F79 -> 0
A80: 6 | B80: Isolat Pseudamonas | C80: Isolat/Kultur Murni Bakteri Pseudomonas aeruginosa | D80: 1 | E80: vial | G80: =D80*F80 -> 0
A81: 7 | B81: Isolat Staphylococcus aureus | C81: Isolat/Kultur Murni Bakteri Staphylococcus aureus | D81: 1 | E81: vial | G81: =D81*F81 -> 0
A82: 8 | B82: Kapas (1 bks = 500 gr) | C82: Kapas Pembalut Bunga Rose 500 Gram Daya Serap Tinggi | D82: 2 | E82: bungkus | G82: =D82*F82 -> 0
A83: 9 | B83: Karet (1 pack=100 pcs) | C83: KARET GELANG PENTIL ISI 100 PCS ( WARNA MIX) | D83: 1 | E83: pack | G83: =D83*F83 -> 0
A84: 10 | B84: Kertas HVS | C84: Kertas HVS A4 75 Gsm, Kertas Copy Paper, 1 rim | D84: 1 | E84: rim | G84: =D84*F84 -> 0
A85: 11 | B85: Kertas isap (100 lembar/pack) | C85: Bentuk: Lembaran persegi Isi: 1 lembar Ukuran: 60 x 60 cm | D85: 20 | E85: lembar | G85: =D85*F85 -> 0
A86: 12 | B86: Kertas label | C86: 1 pack isi 10 lembar, 99 label per lembar | D86: 1 | E86: pack | G86: =D86*F86 -> 0
... A125: 53 | B125: Tabung digester plastik | C125: 1,2 L | D125: 5 | E125: buah | G125: =D125*F125 -> 0
B126: Sub Total Praktikum Mikrobiologi | G126: =SUM(G75:G125) -> 0
B129: Program Studi | D129: : Teknik Lingkungan
B130: Semester/TA | D130: : III_Ganjil 2026/2027
B131: Matakuliah | D131: : Praktikum Pencemaran Udara dan Perubahan Iklim
A134: DAFTAR KEBUTUHAN BAHAN
A135: No | B135: Bahan | C135: Spesifikasi | D135: Jumlah | E135: Satuan | F135: Harga Satuan | G135: Total
A136: 1 | B136: 2,4,5-triklorofenat | D136: 1 | E136: Gram | G136: =D136*F136 -> 0
A137: 2 | B137: Aceton | D137: 1 | E137: Liter | G137: =D137*F137 -> 0
A138: 3 | B138: Aquadest | C138: Air Aquades merupakan air dari hasil penyulingan atau biasa disebut dengan proses distilasi atau biasa juga disebut dengan air murni. Digunakan untuk campuran dalam menurunkan kadar alkohol 96% agar menjadi 70%. Air ini dapat di pakai di laboratorium sebagai pelarut bahan kimia , perawatan aki mobil dan air radiator, kegiatan medis , pembuatan sabun , kosmetik , jamu , nebulizer , obat-obatan dll . pH: 7 TDS: 0 ppm E.Coli : 0 Melayani pemesanan dengan jumlah besar untuk keperluan industri dengan jaminan KESETABILAN TDS & pH | D138: 50 | E138: Liter | G138: =D138*F138 -> 0
A139: 4 | B139: Asam Asetat Glacial | C139: analisis | D139: 600 | E139: mL | G139: =D139*F139 -> 0
A140: 5 | B140: Asam Fosfat H3PO4 Pekat | C140: analisis | D140: 200 | E140: mL | G140: =D140*F140 -> 0
A141: 6 | B141: Asam Sulfat (H2SO4) | C141: analisis | D141: 100 | E141: mL | G141: =D141*F141 -> 0
A142: 7 | B142: asam sulfonat anhidrous | C142: analisis | D142: 20 | E142: gram | G142: =D142*F142 -> 0
A143: 8 | B143: H2O2 30% | D143: 10 | E143: mL | G143: =D143*F143 -> 0
A144: 9 | B144: Asam Klorida (HCl) | C144: Pro Analisis 95-97% | D144: 500 | E144: gram | G144: =D144*F144 -> 0
A145: 10 | B145: HgI2 | C145: analisis | D145: 10 | E145: mL | G145: =D145*F145 -> 0
A146: 11 | B146: I2 | C146: analisis | D146: 8 | E146: gram | G146: =D146*F146 -> 0
A147: 12 | B147: I2O5 0,5% | C147: analisis | D147: 10 | E147: mL | G147: =D147*F147 -> 0
A148: 13 | B148: KI | C148: analisis | D148: 16 | E148: Gram | G148: =D148*F148 -> 0
A149: 14 | B149: KMnO4 | C149: analisis | D149: 10 | E149: Gram | G149: =D149*F149 -> 0
A150: 15 | B150: Larutan Amoniak | C150: analisis | D150: 1 | E150: Liter | G150: =D150*F150 -> 0
A151: 16 | B151: Larutan Stock NED | C151: analisis | D151: 200 | E151: mL | G151: =D151*F151 -> 0
A152: 17 | B152: NaNO2 0,246 Gram | D152: 1 | E152: Gram | G152: =D152*F152 -> 0
A153: 18 | B153: NaOH | C153: pro analis | D153: 700 | E153: Gram | G153: =D153*F153 -> 0
A154: 19 | B154: NH4Cl | C154: analisis | D154: 10 | E154: Gram | G154: =D154*F154 -> 0
A155: 20 | B155: Vaseline | D155: 1 | E155: kg | G155: =D155*F155 -> 0
A156: 21 | B156: Filter Fiber Glass 20,3 x 25,4 cm2 (Isi 100 pcs) | D156: 2 | E156: pack | G156: =D156*F156 -> 0
A157: 22 | B157: Alumunium foil (45 cm x 8 m) | D157: 2 | E157: roll | G157: =D157*F157 -> 0
A158: 23 | B158: Silica Gel | C158: teknis | D158: 1 | E158: kg | G158: =D158*F158 -> 0
A159: 24 | B159: Plastik sampel untuk filter (30 cm x 40 cm) | D159: 100 | E159: pcs | G159: =D159*F159 -> 0
A160: 25 | B160: AgNO3 0,1 M | C160: analis | D160: 200 | E160: mL | G160: =D160*F160 -> 0
A161: 26 | B161: Larutan Stock N-(-1-Naphtyl-)-Ethylene Diamin Dihidro Cloride (NEDA) 0,1% | C161: analis | D161: 200 | E161: mL | G161: =D161*F161 -> 0
A162: 27 | B162: Asam sulfanilat anhidrous (NH2C6H4SO3.H2O) | C162: analis | D162: 250 | E162: gram | G162: =D162*F162 -> 0
A163: 28 | B163: HgCl2 | C163: analis | D163: 500 | E163: gram | G163: =D163*F163 -> 0
A164: 29 | B164: KCl | C164: analis | D164: 300 | E164: gram | G164: =D164*F164 -> 0
A165: 30 | B165: EDTA | C165: analis | D165: 5 | E165: gram | G165: =D165*F165 -> 0
A166: 31 | B166: Pararosanilin hidroklorida (C₁₉H₁₇N₃·HCl) | C166: Pararosaniline hydrochloride, Hi-AR/ACS 1,5 kg | D166: 6 | E166: gram | G166: =D166*F166 -> 0
A167: 32 | B167: Larutan Formaldehida (CH2O) 37% | C167: analis | D167: 10 | E167: mL | G167: =D167*F167 -> 0
...
