Workbook

Sheet Rekapitulasi
A1: Rekapitulasi Kebutuhan Teknik Lingkungan
A4: DAFTAR KEBUTUHAN ALAT BAHAN
A5: No | B5: Keterangan | C5: Jumlah | D5: Satuan | E5: Harga Satuan | F5: Total
A6: 1 | B6: Praktikum Fisika Dasar I | C6: 1 | D6: Paket | E6: ='Persediaan Praktikum Prodi Tekn'!G27 -> 0 | F6: =C6*E6 -> 0
A7: 2 | B7: Praktikum Kimia Dasar I | C7: 1 | D7: Paket | E7: ='Persediaan Praktikum Prodi Tekn'!G64 -> 0 | F7: =C7*E7 -> 0
A8: 3 | B8: Praktikum Mikrobiologi | C8: 1 | D8: Paket | E8: ='Persediaan Praktikum Prodi Tekn'!G126 -> 0 | F8: =C8*E8 -> 0
A9: 4 | B9: Praktikum Pencemaran Udara dan Perubahan Iklim | C9: 1 | D9: Paket | E9: ='Persediaan Praktikum Prodi Tekn'!G192 -> 0 | F9: =C9*E9 -> 0
A10: 5 | B10: Praktikum TPAL | C10: 1 | D10: Paket | E10: ='Persediaan Praktikum Prodi Tekn'!G371 -> 0 | F10: =C10*E10 -> 0
A12: Sub Total | F12: =SUM(F6:F8) -> 0
A13: PPN
A14: Total | F14: =SUM(F12:F13) -> 0

Sheet Persediaan Praktikum Prodi Tekn
B1: Rekapitulasi Kebutuhan Teknik Lingkungan
B3: Program Studi | C3: : Teknik Lingkungan
B4: Semester/TA | C4: : I_Ganjil 2026/2027
B5: Matakuliah | C5: : Praktikum Fisika Dasar I
A7: DAFTAR KEBUTUHAN ALAT BAHAN
A8: No | B8: Alat dan Bahan | C8: Spesifikasi | D8: Jumlah | E8: Satuan | F8: Harga Satuan | G8: Total
A9: 1 | B9: Neraca Gram Digital | D9: 2 | E9: buah | G9: =D9*F9 -> 0
A10: 2 | B10: Termometer Celcius | C10: termometer raksa | D10: 2 | E10: buah | G10: =D10*F10 -> 0
A11: 3 | B11: Bunsen | C11: Lampu Spirtus 150 ml | D11: 2 | E11: buah | G11: =D11*F11 -> 0
A12: 4 | B12: Kalorimeter | C12: Terdiri dari 2 buah tabung Tabung dalam Kapasitas 200ml Tabung luar Kapasitas 300ml Sumbat Karet belubang' Pengaduk Penutup | D12: 2 | E12: buah | G12: =D12*F12 -> 0
A13: 5 | B13: Bejana Pemanas | D13: 2 | E13: buah | G13: =D13*F13 -> 0
A14: 6 | B14: Jangka Sorong | C14: Vernier Caliper 6 inchi / 150 mm Seri 530-104 Ketelitian 0,05 Original Deli | D14: 3 | E14: buah | G14: =D14*F14 -> 0
A15: 7 | B15: Mikrometer Sekrup | D15: 3 | E15: buah | G15: =D15*F15 -> 0
A16: 8 | B16: Mistar Besi | C16: ukuran: 50cm | D16: 3 | E16: buah | G16: =D16*F16 -> 0
A17: 9 | B17: Gelas Breaker | C17: Kapasitas 50 ml Bahan borocilicat Tahan panas | D17: 2 | E17: buah | G17: =D17*F17 -> 0
A18: 10 | B18: Gelas Ukur | C18: -Kapasitas 100 ml -Bahan borocilicat -Tahan panas | D18: 2 | E18: buah | G18: =D18*F18 -> 0
A19: 11 | B19: Katrol Horizontal | C19: Bahan: Plastik, logam Warna: Hitam Ukuran: 88 x 155 x31,5 CM | D19: 2 | E19: buah | G19: =D19*F19 -> 0
A20: 12 | B20: Balok Alumunium | C20: Bahan : aluminium Ukuran : 18 x 18 x 57 mm | D20: 2 | E20: buah | G20: =D20*F20 -> 0
A21: 13 | B21: Balok Kayu | C21: Tinggi hingga ke pengait: 7.5 cm Tinggi balok: 4 cm Lebar: 3 cm Panjang: 3 cm Memiliki pengait beban" | D21: 2 | E21: buah | G21: =D21*F21 -> 0
A22: 14 | B22: Kubus Materi | D22: 2 | E22: buah | G22: =D22*F22 -> 0
A23: 15 | B23: Stopwatch Digital | C23: TaffSPORT Stopwatch Profesional LCD dengan Strap - ZSD-808 | D23: 4 | E23: buah | G23: =D23*F23 -> 0
A24: 16 | B24: Papan Gesekan | C24: panjang 8 cm x lebar 4.5 cm x tebal sekitar 1.5 cm | D24: 1 | E24: buah | G24: =D24*F24 -> 0
A25: 17 | B25: Pelengkap bola Viskositas | D25: 1 | E25: buah | G25: =D25*F25 -> 0
A26: 18 | B26: Tabung Viskositas | D26: 2 | E26: buah | G26: =D26*F26 -> 0
B27: Sub Total Praktikum Fisika Dasar I | G27: =SUM(G9:G26) -> 0
B31: Program Studi | C31: : Teknik Lingkungan
B32: Semester/TA | C32: : I_Ganjil 2026/2027
B33: Matakuliah | C33: : Praktikum Kimia Dasar I
A35: DAFTAR KEBUTUHAN BAHAN
A36: No | B36: Bahan | C36: Spesifikasi | D36: Jumlah | E36: Satuan | F36: Harga Satuan | G36: Total
A37: 1 | B37: Akuades | C37: pH: 7 TDS: 0 ppm E.Coli : 0 | D37: 50 | E37: Liter | G37: =D37*F37 -> 0
A38: 2 | B38: Alkohol teknis 96% | C38: alkohol 96% | D38: 1 | E38: botol | G38: =D38*F38 -> 0
A39: 3 | B39: Indikator Amilum | C39: indikator amilum 1% | D39: 10 | E39: gram | G39: =D39*F39 -> 0
A40: 4 | B40: Amonia | C40: mark | D40: 50 | E40: mL | G40: =D40*F40 -> 0
A41: 5 | B41: Amonium Oksalat ((NH4)2C2O4) | C41: (NH4)2C2O4 merck | D41: 10 | E41: gram | G41: =D41*F41 -> 0
A42: 6 | B42: Asam asetat (CH3COOH) | C42: CH3COOH merck | D42: 50 | E42: mL | G42: =D42*F42 -> 0
A43: 8 | B43: Asam Klorida (HCl) | C43: asam kuat, mengatur pH | D43: 200 | E43: mL | G43: =D43*F43 -> 0
A44: 9 | B44: Asam oksalat dihidrat | C44: p.a | D44: 5 | E44: gram | G44: =D44*F44 -> 0
A45: 10 | B45: Asam Sulfat (H2SO4) | C45: asam kuat, p.a | D45: 250 | E45: mL | G45: =D45*F45 -> 0
A46: 11 | B46: Co (II) Nitrat (Co(NO3)2) | C46: p.a | D46: 10 | E46: gram | G46: =D46*F46 -> 0
...
